BEGIN:VCALENDAR
VERSION:2.0
PRODID:-//Arizona Cowboy Poets Gathering - ECPv6.15.20//NONSGML v1.0//EN
CALSCALE:GREGORIAN
METHOD:PUBLISH
X-WR-CALNAME:Arizona Cowboy Poets Gathering
X-ORIGINAL-URL:https://azcowboypoets.org
X-WR-CALDESC:Events for Arizona Cowboy Poets Gathering
REFRESH-INTERVAL;VALUE=DURATION:PT1H
X-Robots-Tag:noindex
X-PUBLISHED-TTL:PT1H
BEGIN:VTIMEZONE
TZID:America/Phoenix
BEGIN:STANDARD
TZOFFSETFROM:-0700
TZOFFSETTO:-0700
TZNAME:MST
DTSTART:20240101T000000
END:STANDARD
END:VTIMEZONE
BEGIN:VEVENT
DTSTART;VALUE=DATE:20250524
DTEND;VALUE=DATE:20250527
DTSTAMP:20260420T041522
CREATED:20231018T011628Z
LAST-MODIFIED:20250320T191230Z
UID:2858-1748044800-1748303999@azcowboypoets.org
SUMMARY:Phippen Memorial Art Show
DESCRIPTION:
URL:https://azcowboypoets.org/event/phippen-memorial-art-show/
LOCATION:Phippen Art Museum\, Phippen Art Museum 4701 Highway 89 North\, Prescott\, AZ\, 86301\, United States
CATEGORIES:ACPG Raffle Booth
ORGANIZER;CN="Phippen Museum":MAILTO:phippen@phippenartmuseum.org
END:VEVENT
BEGIN:VEVENT
DTSTART;TZID=America/Phoenix:20250515T180000
DTEND;TZID=America/Phoenix:20250515T190000
DTSTAMP:20260420T041522
CREATED:20250320T195338Z
LAST-MODIFIED:20250320T195822Z
UID:3504-1747332000-1747335600@azcowboypoets.org
SUMMARY:ACPG Committee Meeting
DESCRIPTION:
URL:https://azcowboypoets.org/event/acpg-committee-meeting-4/
LOCATION:Yavapai College
CATEGORIES:ACPG Committee Meetings
ORGANIZER;CN="ACPG":MAILTO:acpginfo@gmail.com
END:VEVENT
BEGIN:VEVENT
DTSTART;TZID=America/Phoenix:20250417T180000
DTEND;TZID=America/Phoenix:20250417T190000
DTSTAMP:20260420T041522
CREATED:20250320T194523Z
LAST-MODIFIED:20250320T195145Z
UID:3502-1744912800-1744916400@azcowboypoets.org
SUMMARY:ACPG Committee Meeting
DESCRIPTION:
URL:https://azcowboypoets.org/event/acpg-committee-meeting-5/
LOCATION:Yavapai College
CATEGORIES:ACPG Committee Meetings
ORGANIZER;CN="ACPG":MAILTO:acpginfo@gmail.com
END:VEVENT
END:VCALENDAR